BEGIN:VCALENDAR
VERSION:2.0
PRODID:-//City of Mishawaka - ECPv6.15.17.1//NONSGML v1.0//EN
CALSCALE:GREGORIAN
METHOD:PUBLISH
X-WR-CALNAME:City of Mishawaka
X-ORIGINAL-URL:https://mishawaka.in.gov
X-WR-CALDESC:Events for City of Mishawaka
REFRESH-INTERVAL;VALUE=DURATION:PT1H
X-Robots-Tag:noindex
X-PUBLISHED-TTL:PT1H
BEGIN:VTIMEZONE
TZID:America/Indiana/Indianapolis
BEGIN:DAYLIGHT
TZOFFSETFROM:-0500
TZOFFSETTO:-0400
TZNAME:EDT
DTSTART:20250309T070000
END:DAYLIGHT
BEGIN:STANDARD
TZOFFSETFROM:-0400
TZOFFSETTO:-0500
TZNAME:EST
DTSTART:20251102T060000
END:STANDARD
BEGIN:DAYLIGHT
TZOFFSETFROM:-0500
TZOFFSETTO:-0400
TZNAME:EDT
DTSTART:20260308T070000
END:DAYLIGHT
BEGIN:STANDARD
TZOFFSETFROM:-0400
TZOFFSETTO:-0500
TZNAME:EST
DTSTART:20261101T060000
END:STANDARD
BEGIN:DAYLIGHT
TZOFFSETFROM:-0500
TZOFFSETTO:-0400
TZNAME:EDT
DTSTART:20270314T070000
END:DAYLIGHT
BEGIN:STANDARD
TZOFFSETFROM:-0400
TZOFFSETTO:-0500
TZNAME:EST
DTSTART:20271107T060000
END:STANDARD
END:VTIMEZONE
BEGIN:VEVENT
DTSTART;TZID=America/Indiana/Indianapolis:20260908T100000
DTEND;TZID=America/Indiana/Indianapolis:20260908T110000
DTSTAMP:20260420T104836
CREATED:20250723T135148Z
LAST-MODIFIED:20250723T135148Z
UID:10008486-1788861600-1788865200@mishawaka.in.gov
SUMMARY:Board of Public Works Meeting.
DESCRIPTION:
URL:https://mishawaka.in.gov/event/board-of-public-works-meeting-2/2026-09-08/
LOCATION:City of Mishawaka\, Board of Works and Safety Room\, 100 Lincolnway West\, Mishawaka\, 46544\, United States
END:VEVENT
BEGIN:VEVENT
DTSTART;TZID=America/Indiana/Indianapolis:20260908T163000
DTEND;TZID=America/Indiana/Indianapolis:20260908T173000
DTSTAMP:20260420T104837
CREATED:20230717T161456Z
LAST-MODIFIED:20250116T142138Z
UID:10001212-1788885000-1788888600@mishawaka.in.gov
SUMMARY:Parks & Recreation Board
DESCRIPTION:The Parks & Recreation Board works in cooperation with the Parks and Recreation Department and meets on the second and fourth Mondays of each month at 4:30 p.m. in the Battell Community Center Auditorium.
URL:https://mishawaka.in.gov/event/parks-recreation-board/2026-09-08/
END:VEVENT
BEGIN:VEVENT
DTSTART;TZID=America/Indiana/Indianapolis:20260908T180000
DTEND;TZID=America/Indiana/Indianapolis:20260908T190000
DTSTAMP:20260420T104837
CREATED:20230125T024051Z
LAST-MODIFIED:20230125T024051Z
UID:10005456-1788890400-1788894000@mishawaka.in.gov
SUMMARY:Board of Zoning Appeals
DESCRIPTION:
URL:https://mishawaka.in.gov/event/board-of-zoning-appeals-2026-05-12/
LOCATION:City Hall\, Council Chambers\, 100 Lincolnway West\, Mishawaka\, 46544\, United States
CATEGORIES:Board of Zoning Appeals
END:VEVENT
BEGIN:VEVENT
DTSTART;TZID=America/Indiana/Indianapolis:20260908T180000
DTEND;TZID=America/Indiana/Indianapolis:20260908T190000
DTSTAMP:20260420T104837
CREATED:20230125T024051Z
LAST-MODIFIED:20230125T024051Z
UID:10005255-1788890400-1788894000@mishawaka.in.gov
SUMMARY:Board of Zoning Appeals
DESCRIPTION:
URL:https://mishawaka.in.gov/event/board-of-zoning-appeals-2026-04-14/
LOCATION:City Hall\, Council Chambers\, 100 Lincolnway West\, Mishawaka\, 46544\, United States
CATEGORIES:Board of Zoning Appeals
END:VEVENT
BEGIN:VEVENT
DTSTART;TZID=America/Indiana/Indianapolis:20260908T180000
DTEND;TZID=America/Indiana/Indianapolis:20260908T190000
DTSTAMP:20260420T104837
CREATED:20230125T024051Z
LAST-MODIFIED:20230125T024051Z
UID:10005103-1788890400-1788894000@mishawaka.in.gov
SUMMARY:Board of Zoning Appeals
DESCRIPTION:
URL:https://mishawaka.in.gov/event/board-of-zoning-appeals-2026-03-10/
LOCATION:City Hall\, Council Chambers\, 100 Lincolnway West\, Mishawaka\, 46544\, United States
CATEGORIES:Board of Zoning Appeals
END:VEVENT
BEGIN:VEVENT
DTSTART;TZID=America/Indiana/Indianapolis:20260908T180000
DTEND;TZID=America/Indiana/Indianapolis:20260908T190000
DTSTAMP:20260420T104837
CREATED:20230125T024051Z
LAST-MODIFIED:20230125T024051Z
UID:10005680-1788890400-1788894000@mishawaka.in.gov
SUMMARY:Board of Zoning Appeals
DESCRIPTION:
URL:https://mishawaka.in.gov/event/board-of-zoning-appeals-2026-06-09/
LOCATION:City Hall\, Council Chambers\, 100 Lincolnway West\, Mishawaka\, 46544\, United States
CATEGORIES:Board of Zoning Appeals
END:VEVENT
BEGIN:VEVENT
DTSTART;TZID=America/Indiana/Indianapolis:20260908T180000
DTEND;TZID=America/Indiana/Indianapolis:20260908T190000
DTSTAMP:20260420T104837
CREATED:20230125T024051Z
LAST-MODIFIED:20230125T024051Z
UID:10004928-1788890400-1788894000@mishawaka.in.gov
SUMMARY:Board of Zoning Appeals
DESCRIPTION:
URL:https://mishawaka.in.gov/event/board-of-zoning-appeals-2026-02-10/
LOCATION:City Hall\, Council Chambers\, 100 Lincolnway West\, Mishawaka\, 46544\, United States
CATEGORIES:Board of Zoning Appeals
END:VEVENT
BEGIN:VEVENT
DTSTART;TZID=America/Indiana/Indianapolis:20260908T180000
DTEND;TZID=America/Indiana/Indianapolis:20260908T190000
DTSTAMP:20260420T104837
CREATED:20230125T024051Z
LAST-MODIFIED:20230125T024051Z
UID:10000506-1788890400-1788894000@mishawaka.in.gov
SUMMARY:Board of Zoning Appeals
DESCRIPTION:
URL:https://mishawaka.in.gov/event/board-of-zoning-appeals-2025-05-13/
LOCATION:City Hall\, Council Chambers\, 100 Lincolnway West\, Mishawaka\, 46544\, United States
CATEGORIES:Board of Zoning Appeals
END:VEVENT
BEGIN:VEVENT
DTSTART;TZID=America/Indiana/Indianapolis:20260908T180000
DTEND;TZID=America/Indiana/Indianapolis:20260908T190000
DTSTAMP:20260420T104837
CREATED:20230125T024051Z
LAST-MODIFIED:20230125T024051Z
UID:10004365-1788890400-1788894000@mishawaka.in.gov
SUMMARY:Board of Zoning Appeals
DESCRIPTION:
URL:https://mishawaka.in.gov/event/board-of-zoning-appeals-2026-01-13/
LOCATION:City Hall\, Council Chambers\, 100 Lincolnway West\, Mishawaka\, 46544\, United States
CATEGORIES:Board of Zoning Appeals
END:VEVENT
BEGIN:VEVENT
DTSTART;TZID=America/Indiana/Indianapolis:20260908T180000
DTEND;TZID=America/Indiana/Indianapolis:20260908T190000
DTSTAMP:20260420T104837
CREATED:20230125T024051Z
LAST-MODIFIED:20230125T024051Z
UID:10002589-1788890400-1788894000@mishawaka.in.gov
SUMMARY:Board of Zoning Appeals
DESCRIPTION:
URL:https://mishawaka.in.gov/event/board-of-zoning-appeals-2025-12-09/
LOCATION:City Hall\, Council Chambers\, 100 Lincolnway West\, Mishawaka\, 46544\, United States
CATEGORIES:Board of Zoning Appeals
END:VEVENT
BEGIN:VEVENT
DTSTART;TZID=America/Indiana/Indianapolis:20260908T180000
DTEND;TZID=America/Indiana/Indianapolis:20260908T190000
DTSTAMP:20260420T104837
CREATED:20230125T024051Z
LAST-MODIFIED:20230125T024051Z
UID:10005847-1788890400-1788894000@mishawaka.in.gov
SUMMARY:Board of Zoning Appeals
DESCRIPTION:
URL:https://mishawaka.in.gov/event/board-of-zoning-appeals-2026-07-14/
LOCATION:City Hall\, Council Chambers\, 100 Lincolnway West\, Mishawaka\, 46544\, United States
CATEGORIES:Board of Zoning Appeals
END:VEVENT
BEGIN:VEVENT
DTSTART;TZID=America/Indiana/Indianapolis:20260908T180000
DTEND;TZID=America/Indiana/Indianapolis:20260908T190000
DTSTAMP:20260420T104837
CREATED:20230125T024051Z
LAST-MODIFIED:20230125T024051Z
UID:10002443-1788890400-1788894000@mishawaka.in.gov
SUMMARY:Board of Zoning Appeals
DESCRIPTION:
URL:https://mishawaka.in.gov/event/board-of-zoning-appeals-2025-11-11/
LOCATION:City Hall\, Council Chambers\, 100 Lincolnway West\, Mishawaka\, 46544\, United States
CATEGORIES:Board of Zoning Appeals
END:VEVENT
BEGIN:VEVENT
DTSTART;TZID=America/Indiana/Indianapolis:20260908T180000
DTEND;TZID=America/Indiana/Indianapolis:20260908T190000
DTSTAMP:20260420T104837
CREATED:20230125T024051Z
LAST-MODIFIED:20230125T024051Z
UID:10002293-1788890400-1788894000@mishawaka.in.gov
SUMMARY:Board of Zoning Appeals
DESCRIPTION:
URL:https://mishawaka.in.gov/event/board-of-zoning-appeals-2025-10-14/
LOCATION:City Hall\, Council Chambers\, 100 Lincolnway West\, Mishawaka\, 46544\, United States
CATEGORIES:Board of Zoning Appeals
END:VEVENT
BEGIN:VEVENT
DTSTART;TZID=America/Indiana/Indianapolis:20260908T180000
DTEND;TZID=America/Indiana/Indianapolis:20260908T190000
DTSTAMP:20260420T104837
CREATED:20230125T024051Z
LAST-MODIFIED:20230125T024051Z
UID:10005997-1788890400-1788894000@mishawaka.in.gov
SUMMARY:Board of Zoning Appeals
DESCRIPTION:
URL:https://mishawaka.in.gov/event/board-of-zoning-appeals-2026-08-11/
LOCATION:City Hall\, Council Chambers\, 100 Lincolnway West\, Mishawaka\, 46544\, United States
CATEGORIES:Board of Zoning Appeals
END:VEVENT
BEGIN:VEVENT
DTSTART;TZID=America/Indiana/Indianapolis:20260908T180000
DTEND;TZID=America/Indiana/Indianapolis:20260908T190000
DTSTAMP:20260420T104837
CREATED:20230125T024051Z
LAST-MODIFIED:20230125T024051Z
UID:10002023-1788890400-1788894000@mishawaka.in.gov
SUMMARY:Board of Zoning Appeals
DESCRIPTION:
URL:https://mishawaka.in.gov/event/board-of-zoning-appeals-2025-09-09/
LOCATION:City Hall\, Council Chambers\, 100 Lincolnway West\, Mishawaka\, 46544\, United States
CATEGORIES:Board of Zoning Appeals
END:VEVENT
BEGIN:VEVENT
DTSTART;TZID=America/Indiana/Indianapolis:20260908T180000
DTEND;TZID=America/Indiana/Indianapolis:20260908T190000
DTSTAMP:20260420T104837
CREATED:20230125T024051Z
LAST-MODIFIED:20230125T024051Z
UID:10001876-1788890400-1788894000@mishawaka.in.gov
SUMMARY:Board of Zoning Appeals
DESCRIPTION:
URL:https://mishawaka.in.gov/event/board-of-zoning-appeals-2025-08-12/
LOCATION:City Hall\, Council Chambers\, 100 Lincolnway West\, Mishawaka\, 46544\, United States
CATEGORIES:Board of Zoning Appeals
END:VEVENT
BEGIN:VEVENT
DTSTART;TZID=America/Indiana/Indianapolis:20260908T180000
DTEND;TZID=America/Indiana/Indianapolis:20260908T190000
DTSTAMP:20260420T104837
CREATED:20230125T024051Z
LAST-MODIFIED:20230125T024051Z
UID:10006602-1788890400-1788894000@mishawaka.in.gov
SUMMARY:Board of Zoning Appeals
DESCRIPTION:
URL:https://mishawaka.in.gov/event/board-of-zoning-appeals-2026-09-08/
LOCATION:City Hall\, Council Chambers\, 100 Lincolnway West\, Mishawaka\, 46544\, United States
CATEGORIES:Board of Zoning Appeals
END:VEVENT
BEGIN:VEVENT
DTSTART;TZID=America/Indiana/Indianapolis:20260908T180000
DTEND;TZID=America/Indiana/Indianapolis:20260908T190000
DTSTAMP:20260420T104837
CREATED:20230125T024051Z
LAST-MODIFIED:20230125T024051Z
UID:10001079-1788890400-1788894000@mishawaka.in.gov
SUMMARY:Board of Zoning Appeals
DESCRIPTION:
URL:https://mishawaka.in.gov/event/board-of-zoning-appeals-2025-07-08/
LOCATION:City Hall\, Council Chambers\, 100 Lincolnway West\, Mishawaka\, 46544\, United States
CATEGORIES:Board of Zoning Appeals
END:VEVENT
BEGIN:VEVENT
DTSTART;TZID=America/Indiana/Indianapolis:20260908T180000
DTEND;TZID=America/Indiana/Indianapolis:20260908T190000
DTSTAMP:20260420T104837
CREATED:20230125T024051Z
LAST-MODIFIED:20230125T024051Z
UID:10000903-1788890400-1788894000@mishawaka.in.gov
SUMMARY:Board of Zoning Appeals
DESCRIPTION:
URL:https://mishawaka.in.gov/event/board-of-zoning-appeals-2025-06-10/
LOCATION:City Hall\, Council Chambers\, 100 Lincolnway West\, Mishawaka\, 46544\, United States
CATEGORIES:Board of Zoning Appeals
END:VEVENT
BEGIN:VEVENT
DTSTART;TZID=America/Indiana/Indianapolis:20260908T190000
DTEND;TZID=America/Indiana/Indianapolis:20260908T200000
DTSTAMP:20260420T104837
CREATED:20230125T024300Z
LAST-MODIFIED:20230125T024300Z
UID:10005884-1788894000-1788897600@mishawaka.in.gov
SUMMARY:Plan Commission
DESCRIPTION:
URL:https://mishawaka.in.gov/event/plan-commission-2026-07-14/
LOCATION:City Hall\, Council Chambers\, 100 Lincolnway West\, Mishawaka\, 46544\, United States
CATEGORIES:Plan Commission
END:VEVENT
BEGIN:VEVENT
DTSTART;TZID=America/Indiana/Indianapolis:20260908T190000
DTEND;TZID=America/Indiana/Indianapolis:20260908T200000
DTSTAMP:20260420T104837
CREATED:20230125T024300Z
LAST-MODIFIED:20230125T024300Z
UID:10005716-1788894000-1788897600@mishawaka.in.gov
SUMMARY:Plan Commission
DESCRIPTION:
URL:https://mishawaka.in.gov/event/plan-commission-2026-06-09/
LOCATION:City Hall\, Council Chambers\, 100 Lincolnway West\, Mishawaka\, 46544\, United States
CATEGORIES:Plan Commission
END:VEVENT
BEGIN:VEVENT
DTSTART;TZID=America/Indiana/Indianapolis:20260908T190000
DTEND;TZID=America/Indiana/Indianapolis:20260908T200000
DTSTAMP:20260420T104837
CREATED:20230125T024300Z
LAST-MODIFIED:20230125T024300Z
UID:10006033-1788894000-1788897600@mishawaka.in.gov
SUMMARY:Plan Commission
DESCRIPTION:
URL:https://mishawaka.in.gov/event/plan-commission-2026-08-11/
LOCATION:City Hall\, Council Chambers\, 100 Lincolnway West\, Mishawaka\, 46544\, United States
CATEGORIES:Plan Commission
END:VEVENT
BEGIN:VEVENT
DTSTART;TZID=America/Indiana/Indianapolis:20260908T190000
DTEND;TZID=America/Indiana/Indianapolis:20260908T200000
DTSTAMP:20260420T104837
CREATED:20230125T024300Z
LAST-MODIFIED:20230125T024300Z
UID:10006638-1788894000-1788897600@mishawaka.in.gov
SUMMARY:Plan Commission
DESCRIPTION:
URL:https://mishawaka.in.gov/event/plan-commission-2026-09-08/
LOCATION:City Hall\, Council Chambers\, 100 Lincolnway West\, Mishawaka\, 46544\, United States
CATEGORIES:Plan Commission
END:VEVENT
BEGIN:VEVENT
DTSTART;TZID=America/Indiana/Indianapolis:20260908T190000
DTEND;TZID=America/Indiana/Indianapolis:20260908T200000
DTSTAMP:20260420T104837
CREATED:20230125T024300Z
LAST-MODIFIED:20230125T024300Z
UID:10005493-1788894000-1788897600@mishawaka.in.gov
SUMMARY:Plan Commission
DESCRIPTION:
URL:https://mishawaka.in.gov/event/plan-commission-2026-05-12/
LOCATION:City Hall\, Council Chambers\, 100 Lincolnway West\, Mishawaka\, 46544\, United States
CATEGORIES:Plan Commission
END:VEVENT
BEGIN:VEVENT
DTSTART;TZID=America/Indiana/Indianapolis:20260908T190000
DTEND;TZID=America/Indiana/Indianapolis:20260908T200000
DTSTAMP:20260420T104837
CREATED:20230125T024300Z
LAST-MODIFIED:20230125T024300Z
UID:10004402-1788894000-1788897600@mishawaka.in.gov
SUMMARY:Plan Commission
DESCRIPTION:
URL:https://mishawaka.in.gov/event/plan-commission-2026-01-13/
LOCATION:City Hall\, Council Chambers\, 100 Lincolnway West\, Mishawaka\, 46544\, United States
CATEGORIES:Plan Commission
END:VEVENT
BEGIN:VEVENT
DTSTART;TZID=America/Indiana/Indianapolis:20260908T190000
DTEND;TZID=America/Indiana/Indianapolis:20260908T200000
DTSTAMP:20260420T104837
CREATED:20230125T024300Z
LAST-MODIFIED:20230125T024300Z
UID:10005292-1788894000-1788897600@mishawaka.in.gov
SUMMARY:Plan Commission
DESCRIPTION:
URL:https://mishawaka.in.gov/event/plan-commission-2026-04-14/
LOCATION:City Hall\, Council Chambers\, 100 Lincolnway West\, Mishawaka\, 46544\, United States
CATEGORIES:Plan Commission
END:VEVENT
BEGIN:VEVENT
DTSTART;TZID=America/Indiana/Indianapolis:20260908T190000
DTEND;TZID=America/Indiana/Indianapolis:20260908T200000
DTSTAMP:20260420T104837
CREATED:20230125T024300Z
LAST-MODIFIED:20230125T024300Z
UID:10005139-1788894000-1788897600@mishawaka.in.gov
SUMMARY:Plan Commission
DESCRIPTION:
URL:https://mishawaka.in.gov/event/plan-commission-2026-03-10/
LOCATION:City Hall\, Council Chambers\, 100 Lincolnway West\, Mishawaka\, 46544\, United States
CATEGORIES:Plan Commission
END:VEVENT
BEGIN:VEVENT
DTSTART;TZID=America/Indiana/Indianapolis:20260908T190000
DTEND;TZID=America/Indiana/Indianapolis:20260908T200000
DTSTAMP:20260420T104837
CREATED:20230125T024300Z
LAST-MODIFIED:20230125T024300Z
UID:10004964-1788894000-1788897600@mishawaka.in.gov
SUMMARY:Plan Commission
DESCRIPTION:
URL:https://mishawaka.in.gov/event/plan-commission-2026-02-10/
LOCATION:City Hall\, Council Chambers\, 100 Lincolnway West\, Mishawaka\, 46544\, United States
CATEGORIES:Plan Commission
END:VEVENT
BEGIN:VEVENT
DTSTART;TZID=America/Indiana/Indianapolis:20260908T190000
DTEND;TZID=America/Indiana/Indianapolis:20260908T200000
DTSTAMP:20260420T104837
CREATED:20230125T024300Z
LAST-MODIFIED:20230125T024300Z
UID:10002625-1788894000-1788897600@mishawaka.in.gov
SUMMARY:Plan Commission
DESCRIPTION:
URL:https://mishawaka.in.gov/event/plan-commission-2025-12-09/
LOCATION:City Hall\, Council Chambers\, 100 Lincolnway West\, Mishawaka\, 46544\, United States
CATEGORIES:Plan Commission
END:VEVENT
BEGIN:VEVENT
DTSTART;TZID=America/Indiana/Indianapolis:20260908T190000
DTEND;TZID=America/Indiana/Indianapolis:20260908T200000
DTSTAMP:20260420T104837
CREATED:20230125T024300Z
LAST-MODIFIED:20230125T024300Z
UID:10002479-1788894000-1788897600@mishawaka.in.gov
SUMMARY:Plan Commission
DESCRIPTION:
URL:https://mishawaka.in.gov/event/plan-commission-2025-11-11/
LOCATION:City Hall\, Council Chambers\, 100 Lincolnway West\, Mishawaka\, 46544\, United States
CATEGORIES:Plan Commission
END:VEVENT
END:VCALENDAR