BEGIN:VCALENDAR
VERSION:2.0
PRODID:-//City of Mishawaka - ECPv6.15.17.1//NONSGML v1.0//EN
CALSCALE:GREGORIAN
METHOD:PUBLISH
X-WR-CALNAME:City of Mishawaka
X-ORIGINAL-URL:https://mishawaka.in.gov
X-WR-CALDESC:Events for City of Mishawaka
REFRESH-INTERVAL;VALUE=DURATION:PT1H
X-Robots-Tag:noindex
X-PUBLISHED-TTL:PT1H
BEGIN:VTIMEZONE
TZID:America/Indiana/Indianapolis
BEGIN:DAYLIGHT
TZOFFSETFROM:-0500
TZOFFSETTO:-0400
TZNAME:EDT
DTSTART:20260308T070000
END:DAYLIGHT
BEGIN:STANDARD
TZOFFSETFROM:-0400
TZOFFSETTO:-0500
TZNAME:EST
DTSTART:20261101T060000
END:STANDARD
BEGIN:DAYLIGHT
TZOFFSETFROM:-0500
TZOFFSETTO:-0400
TZNAME:EDT
DTSTART:20270314T070000
END:DAYLIGHT
BEGIN:STANDARD
TZOFFSETFROM:-0400
TZOFFSETTO:-0500
TZNAME:EST
DTSTART:20271107T060000
END:STANDARD
BEGIN:DAYLIGHT
TZOFFSETFROM:-0500
TZOFFSETTO:-0400
TZNAME:EDT
DTSTART:20280312T070000
END:DAYLIGHT
BEGIN:STANDARD
TZOFFSETFROM:-0400
TZOFFSETTO:-0500
TZNAME:EST
DTSTART:20281105T060000
END:STANDARD
END:VTIMEZONE
BEGIN:VEVENT
DTSTART;TZID=America/Indiana/Indianapolis:20270413T190000
DTEND;TZID=America/Indiana/Indianapolis:20270413T200000
DTSTAMP:20260420T062505
CREATED:20230125T024300Z
LAST-MODIFIED:20230125T024300Z
UID:10000550-1807642800-1807646400@mishawaka.in.gov
SUMMARY:Plan Commission
DESCRIPTION:
URL:https://mishawaka.in.gov/event/plan-commission-2025-05-13/
LOCATION:City Hall\, Council Chambers\, 100 Lincolnway West\, Mishawaka\, 46544\, United States
CATEGORIES:Plan Commission
END:VEVENT
BEGIN:VEVENT
DTSTART;TZID=America/Indiana/Indianapolis:20270413T190000
DTEND;TZID=America/Indiana/Indianapolis:20270413T200000
DTSTAMP:20260420T062505
CREATED:20230125T024300Z
LAST-MODIFIED:20230125T024300Z
UID:10000946-1807642800-1807646400@mishawaka.in.gov
SUMMARY:Plan Commission
DESCRIPTION:
URL:https://mishawaka.in.gov/event/plan-commission-2025-06-10/
LOCATION:City Hall\, Council Chambers\, 100 Lincolnway West\, Mishawaka\, 46544\, United States
CATEGORIES:Plan Commission
END:VEVENT
BEGIN:VEVENT
DTSTART;TZID=America/Indiana/Indianapolis:20270413T190000
DTEND;TZID=America/Indiana/Indianapolis:20270413T200000
DTSTAMP:20260420T062505
CREATED:20230125T024300Z
LAST-MODIFIED:20230125T024300Z
UID:10001122-1807642800-1807646400@mishawaka.in.gov
SUMMARY:Plan Commission
DESCRIPTION:
URL:https://mishawaka.in.gov/event/plan-commission-2025-07-08/
LOCATION:City Hall\, Council Chambers\, 100 Lincolnway West\, Mishawaka\, 46544\, United States
CATEGORIES:Plan Commission
END:VEVENT
BEGIN:VEVENT
DTSTART;TZID=America/Indiana/Indianapolis:20270413T190000
DTEND;TZID=America/Indiana/Indianapolis:20270413T200000
DTSTAMP:20260420T062505
CREATED:20230125T024300Z
LAST-MODIFIED:20230125T024300Z
UID:10001920-1807642800-1807646400@mishawaka.in.gov
SUMMARY:Plan Commission
DESCRIPTION:
URL:https://mishawaka.in.gov/event/plan-commission-2025-08-12/
LOCATION:City Hall\, Council Chambers\, 100 Lincolnway West\, Mishawaka\, 46544\, United States
CATEGORIES:Plan Commission
END:VEVENT
BEGIN:VEVENT
DTSTART;TZID=America/Indiana/Indianapolis:20270413T190000
DTEND;TZID=America/Indiana/Indianapolis:20270413T200000
DTSTAMP:20260420T062505
CREATED:20230125T024300Z
LAST-MODIFIED:20230125T024300Z
UID:10002066-1807642800-1807646400@mishawaka.in.gov
SUMMARY:Plan Commission
DESCRIPTION:
URL:https://mishawaka.in.gov/event/plan-commission-2025-09-09/
LOCATION:City Hall\, Council Chambers\, 100 Lincolnway West\, Mishawaka\, 46544\, United States
CATEGORIES:Plan Commission
END:VEVENT
BEGIN:VEVENT
DTSTART;TZID=America/Indiana/Indianapolis:20270413T190000
DTEND;TZID=America/Indiana/Indianapolis:20270413T200000
DTSTAMP:20260420T062505
CREATED:20230125T024300Z
LAST-MODIFIED:20230125T024300Z
UID:10002337-1807642800-1807646400@mishawaka.in.gov
SUMMARY:Plan Commission
DESCRIPTION:
URL:https://mishawaka.in.gov/event/plan-commission-2025-10-14/
LOCATION:City Hall\, Council Chambers\, 100 Lincolnway West\, Mishawaka\, 46544\, United States
CATEGORIES:Plan Commission
END:VEVENT
BEGIN:VEVENT
DTSTART;TZID=America/Indiana/Indianapolis:20270413T190000
DTEND;TZID=America/Indiana/Indianapolis:20270413T200000
DTSTAMP:20260420T062505
CREATED:20230125T024300Z
LAST-MODIFIED:20230125T024300Z
UID:10002486-1807642800-1807646400@mishawaka.in.gov
SUMMARY:Plan Commission
DESCRIPTION:
URL:https://mishawaka.in.gov/event/plan-commission-2025-11-11/
LOCATION:City Hall\, Council Chambers\, 100 Lincolnway West\, Mishawaka\, 46544\, United States
CATEGORIES:Plan Commission
END:VEVENT
BEGIN:VEVENT
DTSTART;TZID=America/Indiana/Indianapolis:20270413T190000
DTEND;TZID=America/Indiana/Indianapolis:20270413T200000
DTSTAMP:20260420T062505
CREATED:20230125T024300Z
LAST-MODIFIED:20230125T024300Z
UID:10002632-1807642800-1807646400@mishawaka.in.gov
SUMMARY:Plan Commission
DESCRIPTION:
URL:https://mishawaka.in.gov/event/plan-commission-2025-12-09/
LOCATION:City Hall\, Council Chambers\, 100 Lincolnway West\, Mishawaka\, 46544\, United States
CATEGORIES:Plan Commission
END:VEVENT
BEGIN:VEVENT
DTSTART;TZID=America/Indiana/Indianapolis:20270413T190000
DTEND;TZID=America/Indiana/Indianapolis:20270413T200000
DTSTAMP:20260420T062505
CREATED:20230125T024300Z
LAST-MODIFIED:20230125T024300Z
UID:10004409-1807642800-1807646400@mishawaka.in.gov
SUMMARY:Plan Commission
DESCRIPTION:
URL:https://mishawaka.in.gov/event/plan-commission-2026-01-13/
LOCATION:City Hall\, Council Chambers\, 100 Lincolnway West\, Mishawaka\, 46544\, United States
CATEGORIES:Plan Commission
END:VEVENT
BEGIN:VEVENT
DTSTART;TZID=America/Indiana/Indianapolis:20270413T190000
DTEND;TZID=America/Indiana/Indianapolis:20270413T200000
DTSTAMP:20260420T062505
CREATED:20230125T024300Z
LAST-MODIFIED:20230125T024300Z
UID:10004971-1807642800-1807646400@mishawaka.in.gov
SUMMARY:Plan Commission
DESCRIPTION:
URL:https://mishawaka.in.gov/event/plan-commission-2026-02-10/
LOCATION:City Hall\, Council Chambers\, 100 Lincolnway West\, Mishawaka\, 46544\, United States
CATEGORIES:Plan Commission
END:VEVENT
BEGIN:VEVENT
DTSTART;TZID=America/Indiana/Indianapolis:20270413T190000
DTEND;TZID=America/Indiana/Indianapolis:20270413T200000
DTSTAMP:20260420T062505
CREATED:20230125T024300Z
LAST-MODIFIED:20230125T024300Z
UID:10005146-1807642800-1807646400@mishawaka.in.gov
SUMMARY:Plan Commission
DESCRIPTION:
URL:https://mishawaka.in.gov/event/plan-commission-2026-03-10/
LOCATION:City Hall\, Council Chambers\, 100 Lincolnway West\, Mishawaka\, 46544\, United States
CATEGORIES:Plan Commission
END:VEVENT
BEGIN:VEVENT
DTSTART;TZID=America/Indiana/Indianapolis:20270413T190000
DTEND;TZID=America/Indiana/Indianapolis:20270413T200000
DTSTAMP:20260420T062505
CREATED:20230125T024300Z
LAST-MODIFIED:20230125T024300Z
UID:10005299-1807642800-1807646400@mishawaka.in.gov
SUMMARY:Plan Commission
DESCRIPTION:
URL:https://mishawaka.in.gov/event/plan-commission-2026-04-14/
LOCATION:City Hall\, Council Chambers\, 100 Lincolnway West\, Mishawaka\, 46544\, United States
CATEGORIES:Plan Commission
END:VEVENT
BEGIN:VEVENT
DTSTART;TZID=America/Indiana/Indianapolis:20270413T190000
DTEND;TZID=America/Indiana/Indianapolis:20270413T200000
DTSTAMP:20260420T062505
CREATED:20230125T024300Z
LAST-MODIFIED:20230125T024300Z
UID:10005500-1807642800-1807646400@mishawaka.in.gov
SUMMARY:Plan Commission
DESCRIPTION:
URL:https://mishawaka.in.gov/event/plan-commission-2026-05-12/
LOCATION:City Hall\, Council Chambers\, 100 Lincolnway West\, Mishawaka\, 46544\, United States
CATEGORIES:Plan Commission
END:VEVENT
BEGIN:VEVENT
DTSTART;TZID=America/Indiana/Indianapolis:20270413T190000
DTEND;TZID=America/Indiana/Indianapolis:20270413T200000
DTSTAMP:20260420T062505
CREATED:20230125T024300Z
LAST-MODIFIED:20230125T024300Z
UID:10005723-1807642800-1807646400@mishawaka.in.gov
SUMMARY:Plan Commission
DESCRIPTION:
URL:https://mishawaka.in.gov/event/plan-commission-2026-06-09/
LOCATION:City Hall\, Council Chambers\, 100 Lincolnway West\, Mishawaka\, 46544\, United States
CATEGORIES:Plan Commission
END:VEVENT
BEGIN:VEVENT
DTSTART;TZID=America/Indiana/Indianapolis:20270413T190000
DTEND;TZID=America/Indiana/Indianapolis:20270413T200000
DTSTAMP:20260420T062505
CREATED:20230125T024300Z
LAST-MODIFIED:20230125T024300Z
UID:10005891-1807642800-1807646400@mishawaka.in.gov
SUMMARY:Plan Commission
DESCRIPTION:
URL:https://mishawaka.in.gov/event/plan-commission-2026-07-14/
LOCATION:City Hall\, Council Chambers\, 100 Lincolnway West\, Mishawaka\, 46544\, United States
CATEGORIES:Plan Commission
END:VEVENT
BEGIN:VEVENT
DTSTART;TZID=America/Indiana/Indianapolis:20270413T190000
DTEND;TZID=America/Indiana/Indianapolis:20270413T200000
DTSTAMP:20260420T062505
CREATED:20230125T024300Z
LAST-MODIFIED:20230125T024300Z
UID:10006040-1807642800-1807646400@mishawaka.in.gov
SUMMARY:Plan Commission
DESCRIPTION:
URL:https://mishawaka.in.gov/event/plan-commission-2026-08-11/
LOCATION:City Hall\, Council Chambers\, 100 Lincolnway West\, Mishawaka\, 46544\, United States
CATEGORIES:Plan Commission
END:VEVENT
BEGIN:VEVENT
DTSTART;TZID=America/Indiana/Indianapolis:20270413T190000
DTEND;TZID=America/Indiana/Indianapolis:20270413T200000
DTSTAMP:20260420T062505
CREATED:20230125T024300Z
LAST-MODIFIED:20230125T024300Z
UID:10006645-1807642800-1807646400@mishawaka.in.gov
SUMMARY:Plan Commission
DESCRIPTION:
URL:https://mishawaka.in.gov/event/plan-commission-2026-09-08/
LOCATION:City Hall\, Council Chambers\, 100 Lincolnway West\, Mishawaka\, 46544\, United States
CATEGORIES:Plan Commission
END:VEVENT
BEGIN:VEVENT
DTSTART;TZID=America/Indiana/Indianapolis:20270413T190000
DTEND;TZID=America/Indiana/Indianapolis:20270413T200000
DTSTAMP:20260420T062505
CREATED:20230125T024300Z
LAST-MODIFIED:20230125T024300Z
UID:10006839-1807642800-1807646400@mishawaka.in.gov
SUMMARY:Plan Commission
DESCRIPTION:
URL:https://mishawaka.in.gov/event/plan-commission-2026-10-13/
LOCATION:City Hall\, Council Chambers\, 100 Lincolnway West\, Mishawaka\, 46544\, United States
CATEGORIES:Plan Commission
END:VEVENT
BEGIN:VEVENT
DTSTART;TZID=America/Indiana/Indianapolis:20270413T190000
DTEND;TZID=America/Indiana/Indianapolis:20270413T200000
DTSTAMP:20260420T062505
CREATED:20230125T024300Z
LAST-MODIFIED:20230125T024300Z
UID:10007130-1807642800-1807646400@mishawaka.in.gov
SUMMARY:Plan Commission
DESCRIPTION:
URL:https://mishawaka.in.gov/event/plan-commission-2026-11-10/
LOCATION:City Hall\, Council Chambers\, 100 Lincolnway West\, Mishawaka\, 46544\, United States
CATEGORIES:Plan Commission
END:VEVENT
BEGIN:VEVENT
DTSTART;TZID=America/Indiana/Indianapolis:20270413T190000
DTEND;TZID=America/Indiana/Indianapolis:20270413T200000
DTSTAMP:20260420T062505
CREATED:20230125T024300Z
LAST-MODIFIED:20230125T024300Z
UID:10007254-1807642800-1807646400@mishawaka.in.gov
SUMMARY:Plan Commission
DESCRIPTION:
URL:https://mishawaka.in.gov/event/plan-commission-2026-12-08/
LOCATION:City Hall\, Council Chambers\, 100 Lincolnway West\, Mishawaka\, 46544\, United States
CATEGORIES:Plan Commission
END:VEVENT
BEGIN:VEVENT
DTSTART;TZID=America/Indiana/Indianapolis:20270413T190000
DTEND;TZID=America/Indiana/Indianapolis:20270413T200000
DTSTAMP:20260420T062505
CREATED:20230125T024300Z
LAST-MODIFIED:20230125T024300Z
UID:10007444-1807642800-1807646400@mishawaka.in.gov
SUMMARY:Plan Commission
DESCRIPTION:
URL:https://mishawaka.in.gov/event/plan-commission-2027-01-12/
LOCATION:City Hall\, Council Chambers\, 100 Lincolnway West\, Mishawaka\, 46544\, United States
CATEGORIES:Plan Commission
END:VEVENT
BEGIN:VEVENT
DTSTART;TZID=America/Indiana/Indianapolis:20270413T190000
DTEND;TZID=America/Indiana/Indianapolis:20270413T200000
DTSTAMP:20260420T062505
CREATED:20230125T024300Z
LAST-MODIFIED:20230125T024300Z
UID:10007717-1807642800-1807646400@mishawaka.in.gov
SUMMARY:Plan Commission
DESCRIPTION:
URL:https://mishawaka.in.gov/event/plan-commission-2027-02-09/
LOCATION:City Hall\, Council Chambers\, 100 Lincolnway West\, Mishawaka\, 46544\, United States
CATEGORIES:Plan Commission
END:VEVENT
BEGIN:VEVENT
DTSTART;TZID=America/Indiana/Indianapolis:20270413T190000
DTEND;TZID=America/Indiana/Indianapolis:20270413T200000
DTSTAMP:20260420T062505
CREATED:20230125T024300Z
LAST-MODIFIED:20230125T024300Z
UID:10007899-1807642800-1807646400@mishawaka.in.gov
SUMMARY:Plan Commission
DESCRIPTION:
URL:https://mishawaka.in.gov/event/plan-commission-2027-03-09/
LOCATION:City Hall\, Council Chambers\, 100 Lincolnway West\, Mishawaka\, 46544\, United States
CATEGORIES:Plan Commission
END:VEVENT
BEGIN:VEVENT
DTSTART;TZID=America/Indiana/Indianapolis:20270413T190000
DTEND;TZID=America/Indiana/Indianapolis:20270413T200000
DTSTAMP:20260420T062505
CREATED:20230125T024300Z
LAST-MODIFIED:20230125T024300Z
UID:10007974-1807642800-1807646400@mishawaka.in.gov
SUMMARY:Plan Commission
DESCRIPTION:
URL:https://mishawaka.in.gov/event/plan-commission-2027-04-13/
LOCATION:City Hall\, Council Chambers\, 100 Lincolnway West\, Mishawaka\, 46544\, United States
CATEGORIES:Plan Commission
END:VEVENT
BEGIN:VEVENT
DTSTART;TZID=America/Indiana/Indianapolis:20270420T100000
DTEND;TZID=America/Indiana/Indianapolis:20270420T110000
DTSTAMP:20260420T062505
CREATED:20250723T135148Z
LAST-MODIFIED:20250723T135148Z
UID:10008518-1808215200-1808218800@mishawaka.in.gov
SUMMARY:Board of Public Works Meeting.
DESCRIPTION:
URL:https://mishawaka.in.gov/event/board-of-public-works-meeting-2/2027-04-20/
LOCATION:City of Mishawaka\, Board of Works and Safety Room\, 100 Lincolnway West\, Mishawaka\, 46544\, United States
END:VEVENT
BEGIN:VEVENT
DTSTART;TZID=America/Indiana/Indianapolis:20270426T173000
DTEND;TZID=America/Indiana/Indianapolis:20270426T183000
DTSTAMP:20260420T062505
CREATED:20230410T192624Z
LAST-MODIFIED:20260403T160142Z
UID:10005348-1808760600-1808764200@mishawaka.in.gov
SUMMARY:Redevelopment Commission
DESCRIPTION:The Mishawaka Redevelopment Commission will hold its regular meeting the fourth Monday (unless otherwise noted) of each month at 5:30 p.m. in the Board of Public Works Room at 100 Lincolnway West\, Mishawaka\, Indiana 46544\, unless otherwise noted: \n\nMonday\, January 26\, 2026\nMonday\, February 23\, 2026\nMonday\, March 23\, 2026\nMonday\, April 27\, 2026\nMonday\, May 18\, 2026*\nMonday\, June 22\, 2026\nMonday\, July 27\, 2026\nMonday\, August 24\, 2026\nMonday\, September 28\, 2026\nMonday\, October 26\, 2026\nMonday\, November 16\, 2026*\nMonday\, December 14\, 2026*\n\n  \n* Date adjusted to accommodate Holiday
URL:https://mishawaka.in.gov/event/redevelopment-commission-2-2/2027-04-26/
LOCATION:City Hall\, Council Chambers\, 100 Lincolnway West\, Mishawaka\, 46544\, United States
CATEGORIES:Redevelopment Commission
END:VEVENT
BEGIN:VEVENT
DTSTART;TZID=America/Indiana/Indianapolis:20270427T100000
DTEND;TZID=America/Indiana/Indianapolis:20270427T110000
DTSTAMP:20260420T062505
CREATED:20250723T135148Z
LAST-MODIFIED:20250723T135148Z
UID:10008519-1808820000-1808823600@mishawaka.in.gov
SUMMARY:Board of Public Works Meeting.
DESCRIPTION:
URL:https://mishawaka.in.gov/event/board-of-public-works-meeting-2/2027-04-27/
LOCATION:City of Mishawaka\, Board of Works and Safety Room\, 100 Lincolnway West\, Mishawaka\, 46544\, United States
END:VEVENT
BEGIN:VEVENT
DTSTART;TZID=America/Indiana/Indianapolis:20270427T163000
DTEND;TZID=America/Indiana/Indianapolis:20270427T173000
DTSTAMP:20260420T062505
CREATED:20231012T142253Z
LAST-MODIFIED:20240916T152533Z
UID:10002176-1808843400-1808847000@mishawaka.in.gov
SUMMARY:Parks and Recreation Board meeting
DESCRIPTION:Parks & Recreation Board\n\nThe Parks & Recreation Board works in cooperation with the Parks and Recreation Department and meets on the second and fourth Mondays of each month at 4:30 p.m. in the Battell Community Center Auditorium
URL:https://mishawaka.in.gov/event/parks-and-recreation-board-meeting/2027-04-27/
LOCATION:Battell Center Auditorium\, 904 N. Main St.\, Mishawaka\, IN\, 46545\, United States
ATTACH;FMTTYPE=image/jpeg:https://mishawaka.in.gov/wp-content/uploads/2022/12/img-parks-sth-2022.jpg
GEO:41.6699584609;-86.181162946
X-APPLE-STRUCTURED-LOCATION;VALUE=URI;X-ADDRESS=Battell Center Auditorium 904 N. Main St. Mishawaka IN 46545 United States;X-APPLE-RADIUS=500;X-TITLE=904 N. Main St.:geo:-86.181162946,41.6699584609
END:VEVENT
BEGIN:VEVENT
DTSTART;TZID=America/Indiana/Indianapolis:20270504T100000
DTEND;TZID=America/Indiana/Indianapolis:20270504T110000
DTSTAMP:20260420T062505
CREATED:20250723T135148Z
LAST-MODIFIED:20250723T135148Z
UID:10008520-1809424800-1809428400@mishawaka.in.gov
SUMMARY:Board of Public Works Meeting.
DESCRIPTION:
URL:https://mishawaka.in.gov/event/board-of-public-works-meeting-2/2027-05-04/
LOCATION:City of Mishawaka\, Board of Works and Safety Room\, 100 Lincolnway West\, Mishawaka\, 46544\, United States
END:VEVENT
BEGIN:VEVENT
DTSTART;TZID=America/Indiana/Indianapolis:20270504T160000
DTEND;TZID=America/Indiana/Indianapolis:20270504T170000
DTSTAMP:20260420T062505
CREATED:20250116T142058Z
LAST-MODIFIED:20250116T142058Z
UID:10007542-1809446400-1809450000@mishawaka.in.gov
SUMMARY:Historic Preservation Commission
DESCRIPTION:The Historic Preservation Commission meets in the Board of Public Works room on the first Tuesday of each month at 4 p.m.  All meetings are open to the public. You may also attend a meeting to offer your thoughts or concerns during Privilege of the Floor.
URL:https://mishawaka.in.gov/event/historic-preservation-commission/2027-05-04/
LOCATION:City of Mishawaka\, Board of Works and Safety Room\, 100 Lincolnway West\, Mishawaka\, 46544\, United States
CATEGORIES:Historic Preservation Commission
END:VEVENT
END:VCALENDAR